BEGIN:VCALENDAR
VERSION:2.0
PRODID:-//Devi Mandir Canada - ECPv6.15.16//NONSGML v1.0//EN
CALSCALE:GREGORIAN
METHOD:PUBLISH
X-ORIGINAL-URL:https://devimandir.com
X-WR-CALDESC:Events for Devi Mandir Canada
REFRESH-INTERVAL;VALUE=DURATION:PT1H
X-Robots-Tag:noindex
X-PUBLISHED-TTL:PT1H
BEGIN:VTIMEZONE
TZID:UTC
BEGIN:STANDARD
TZOFFSETFROM:+0000
TZOFFSETTO:+0000
TZNAME:UTC
DTSTART:20230101T000000
END:STANDARD
END:VTIMEZONE
BEGIN:VEVENT
DTSTART;TZID=UTC:20240715T080000
DTEND;TZID=UTC:20240715T200000
DTSTAMP:20260419T205428
CREATED:20240613T165655Z
LAST-MODIFIED:20240711T144012Z
UID:22150-1721030400-1721073600@devimandir.com
SUMMARY:Karka Sankranti
DESCRIPTION:
URL:https://devimandir.com/event/karka-sankranti/
CATEGORIES:Fast & Festivals
ATTACH;FMTTYPE=image/jpeg:https://devimandir.com/wp-content/uploads/2024/06/dakshinayana_sankranti.jpg
END:VEVENT
BEGIN:VEVENT
DTSTART;TZID=UTC:20240715T180000
DTEND;TZID=UTC:20240715T200000
DTSTAMP:20260419T205428
CREATED:20240618T155058Z
LAST-MODIFIED:20240618T155354Z
UID:22272-1721066400-1721073600@devimandir.com
SUMMARY:Shiv Puja-Abhishek- Archana-Prasad-Keertan-Aarti
DESCRIPTION:
URL:https://devimandir.com/event/shiv-puja-abhishek-archana-prasad-keertan-aarti-2/
CATEGORIES:Puja- Every Monday
END:VEVENT
BEGIN:VEVENT
DTSTART;TZID=UTC:20240715T180000
DTEND;TZID=UTC:20240715T200000
DTSTAMP:20260419T205428
CREATED:20240618T181127Z
LAST-MODIFIED:20240618T181147Z
UID:22319-1721066400-1721073600@devimandir.com
SUMMARY:Kathak dance class
DESCRIPTION:
URL:https://devimandir.com/event/kathak-dance-class-3/
CATEGORIES:Activity Classes
END:VEVENT
END:VCALENDAR