BEGIN:VCALENDAR
VERSION:2.0
PRODID:-//Devi Mandir Canada - ECPv6.15.16//NONSGML v1.0//EN
CALSCALE:GREGORIAN
METHOD:PUBLISH
X-WR-CALNAME:Devi Mandir Canada
X-ORIGINAL-URL:https://devimandir.com
X-WR-CALDESC:Events for Devi Mandir Canada
REFRESH-INTERVAL;VALUE=DURATION:PT1H
X-Robots-Tag:noindex
X-PUBLISHED-TTL:PT1H
BEGIN:VTIMEZONE
TZID:UTC
BEGIN:STANDARD
TZOFFSETFROM:+0000
TZOFFSETTO:+0000
TZNAME:UTC
DTSTART:20230101T000000
END:STANDARD
END:VTIMEZONE
BEGIN:VEVENT
DTSTART;TZID=UTC:20240712T130000
DTEND;TZID=UTC:20240712T200000
DTSTAMP:20260420T002553
CREATED:20240617T154607Z
LAST-MODIFIED:20240711T150722Z
UID:22229-1720789200-1720814400@devimandir.com
SUMMARY:Wedding
DESCRIPTION:
URL:https://devimandir.com/event/wedding-3/
CATEGORIES:Celebration & regards
END:VEVENT
BEGIN:VEVENT
DTSTART;TZID=UTC:20240713T130000
DTEND;TZID=UTC:20240714T200000
DTSTAMP:20260420T002553
CREATED:20240711T152338Z
LAST-MODIFIED:20240711T152400Z
UID:23075-1720875600-1720987200@devimandir.com
SUMMARY:Henna -Sangeet-Wedding
DESCRIPTION:
URL:https://devimandir.com/event/henna-sangeet-wedding/
CATEGORIES:Special event
END:VEVENT
BEGIN:VEVENT
DTSTART;TZID=UTC:20240714T090000
DTEND;TZID=UTC:20240714T120000
DTSTAMP:20260420T002553
CREATED:20240619T161344Z
LAST-MODIFIED:20240619T161406Z
UID:22390-1720947600-1720958400@devimandir.com
SUMMARY:Sunday Service-Puja-Prasad-Bhajans-Katha-Aarti
DESCRIPTION:
URL:https://devimandir.com/event/sunday-service-puja-prasad-bhajans-katha-aarti-4/
CATEGORIES:Puja-Every Sunday
END:VEVENT
BEGIN:VEVENT
DTSTART;TZID=UTC:20240714T130000
DTEND;TZID=UTC:20240714T160000
DTSTAMP:20260420T002553
CREATED:20240615T164216Z
LAST-MODIFIED:20240711T181921Z
UID:22207-1720962000-1720972800@devimandir.com
SUMMARY:No Dance class
DESCRIPTION:Bollywood dance by Shobha \n(Every Sunday : 1pm -4pm )
URL:https://devimandir.com/event/bollywood-dance-5/
CATEGORIES:Activity Classes
END:VEVENT
END:VCALENDAR